BEGIN:VCALENDAR
VERSION:2.0
PRODID:-//ChamberMaster//Event Calendar 2.0//EN
METHOD:PUBLISH
X-PUBLISHED-TTL:P3D
REFRESH-INTERVAL:P3D
CALSCALE:GREGORIAN
BEGIN:VEVENT
DTSTART:20250513T130000Z
DTEND:20250513T143000Z
X-MICROSOFT-CDO-ALLDAYEVENT:FALSE
SUMMARY:Ribbon Cutting
DESCRIPTION:Join the Chamber as we reveal the Math Walk behind GRE and have an official Ribbon Cutting. The 8th grade math students at Big Walnut Middle School have worked hard at creating math problems to solve while walking the path. Donations have been made for stands to house each problem.
X-ALT-DESC;FMTTYPE=text/html:Join the Chamber as we reveal the Math Walk behind GRE and have an official Ribbon Cutting. The 8th grade math&nbsp\;<span style="color: rgb(51\, 51\, 51)\; font-family: sans-serif\, Arial\, Verdana\, &quot\;Trebuchet MS&quot\;\; font-size: 13px\; background-color: rgb(255\, 255\, 255)\;">students</span>&nbsp\;at Big Walnut Middle School have worked hard at creating math problems to solve while walking the path. Donations have been made for stands to house each problem.&nbsp\;
LOCATION:GRE Sunbury
UID:e.295.7026
SEQUENCE:3
DTSTAMP:20260420T053029Z
URL:https://business.sunburybigwalnutchamber.com/events/details/ribbon-cutting-7026
END:VEVENT

END:VCALENDAR
