BEGIN:VCALENDAR
VERSION:2.0
PRODID:-//ChamberMaster//Event Calendar 2.0//EN
METHOD:PUBLISH
X-PUBLISHED-TTL:P3D
REFRESH-INTERVAL:P3D
CALSCALE:GREGORIAN
BEGIN:VEVENT
DTSTART:20250818T160000Z
DTEND:20250818T163000Z
X-MICROSOFT-CDO-ALLDAYEVENT:FALSE
SUMMARY:Ribbon Cutting
DESCRIPTION:Ribbon Cutting for new business in the community and new Chamber member Tony Eckert.
X-ALT-DESC;FMTTYPE=text/html:Ribbon Cutting for new business in the community and new Chamber member Tony Eckert.
LOCATION:Ability Chiropractic 157 State Route 3 Sunbury Kroger Shopping Center
UID:e.295.7095
SEQUENCE:3
DTSTAMP:20260420T103648Z
URL:https://business.sunburybigwalnutchamber.com/events/details/ribbon-cutting-7095
END:VEVENT

END:VCALENDAR
