BEGIN:VCALENDAR
VERSION:2.0
PRODID:-//ChamberMaster//Event Calendar 2.0//EN
METHOD:PUBLISH
X-PUBLISHED-TTL:P3D
REFRESH-INTERVAL:P3D
CALSCALE:GREGORIAN
BEGIN:VEVENT
DTSTART:20210615T140000Z
DTEND:20210616T030000Z
X-MICROSOFT-CDO-ALLDAYEVENT:FALSE
SUMMARY:Ribbon Cutting at Sunbury Dental
DESCRIPTION:Ribbon Cutting at Sunbury Dental\, more details to come!
X-ALT-DESC;FMTTYPE=text/html:Ribbon Cutting at Sunbury Dental\, more details to come!
LOCATION:Sunbury Dental 450 S Miller Dr. Suite 200 Sunbury\, OH 43074
UID:e.295.6246
SEQUENCE:3
DTSTAMP:20260423T233633Z
URL:https://business.sunburybigwalnutchamber.com/events/details/ribbon-cutting-at-sunbury-dental-6246
END:VEVENT

END:VCALENDAR
