BEGIN:VCALENDAR
VERSION:2.0
PRODID:-//ChamberMaster//Event Calendar 2.0//EN
METHOD:PUBLISH
X-PUBLISHED-TTL:P3D
REFRESH-INTERVAL:P3D
CALSCALE:GREGORIAN
BEGIN:VEVENT
DTSTART:20241102T140000Z
DTEND:20241102T160000Z
X-MICROSOFT-CDO-ALLDAYEVENT:FALSE
SUMMARY:Ribbon Cutting-Berkshire Township
DESCRIPTION:The Chamber is excited to announce another Ribbon Cutting. This time around we are helping Berkshire Township as they unveil their new park!
X-ALT-DESC;FMTTYPE=text/html:The Chamber is excited to announce another Ribbon Cutting. This time around we are helping Berkshire Township as they unveil their new park!
LOCATION:1454 Rome Corners Rd. Galena
UID:e.295.6966
SEQUENCE:3
DTSTAMP:20260419T185838Z
URL:https://business.sunburybigwalnutchamber.com/events/details/ribbon-cutting-berkshire-township-6966
END:VEVENT

END:VCALENDAR
