BEGIN:VCALENDAR
VERSION:2.0
PRODID:-//ChamberMaster//Event Calendar 2.0//EN
METHOD:PUBLISH
X-PUBLISHED-TTL:P3D
REFRESH-INTERVAL:P3D
CALSCALE:GREGORIAN
BEGIN:VEVENT
DTSTART:20220805T190000Z
DTEND:20220805T230000Z
X-MICROSOFT-CDO-ALLDAYEVENT:FALSE
SUMMARY:Ribbon Cutting Ceremony/Open House
DESCRIPTION:Ribbon Cutting Ceremony/Open House
X-ALT-DESC;FMTTYPE=text/html:Ribbon Cutting Ceremony/Open House
LOCATION:Galena Veterinary Care 51 Middle St. Galena\, OH 43021
UID:e.295.6679
SEQUENCE:3
DTSTAMP:20260421T003848Z
URL:https://business.sunburybigwalnutchamber.com/events/details/ribbon-cutting-ceremony-open-house-6679
END:VEVENT

END:VCALENDAR
