BEGIN:VCALENDAR
VERSION:2.0
PRODID:-//ChamberMaster//Event Calendar 2.0//EN
METHOD:PUBLISH
X-PUBLISHED-TTL:P3D
REFRESH-INTERVAL:P3D
CALSCALE:GREGORIAN
BEGIN:VEVENT
DTSTART:20241023T210000Z
DTEND:20241023T230000Z
X-MICROSOFT-CDO-ALLDAYEVENT:FALSE
SUMMARY:Ribbon Cutting-Huntington Bank
DESCRIPTION:Sunbury has a brand-new Huntington Bank! Join them for their Grand opening!
X-ALT-DESC;FMTTYPE=text/html:Sunbury has a brand-new Huntington Bank! Join them for their Grand opening!
LOCATION:Kroger Shopping Center Cherry St Sunbury
UID:e.295.6965
SEQUENCE:3
DTSTAMP:20260419T173402Z
URL:https://business.sunburybigwalnutchamber.com/events/details/ribbon-cutting-huntington-bank-6965
END:VEVENT

END:VCALENDAR
