BEGIN:VCALENDAR
VERSION:2.0
PRODID:-//ChamberMaster//Event Calendar 2.0//EN
METHOD:PUBLISH
X-PUBLISHED-TTL:P3D
REFRESH-INTERVAL:P3D
CALSCALE:GREGORIAN
BEGIN:VEVENT
DTSTART:20251029T150000Z
DTEND:20251029T170000Z
X-MICROSOFT-CDO-ALLDAYEVENT:FALSE
SUMMARY:Ribbon Cutting & Open House
DESCRIPTION:Join us as we welcome HQ to the neighborhood! They are having an Open House from 11-1 and the Chamber will do their Ribbon Cutting at noon.
X-ALT-DESC;FMTTYPE=text/html:Join us as we welcome HQ to the neighborhood! They are having an Open House from 11-1 and the Chamber will do their Ribbon Cutting at noon.
LOCATION:HQ 801 W Cherry St. 2nd Floor Sunbury
UID:e.295.7123
SEQUENCE:3
DTSTAMP:20260420T135631Z
URL:https://business.sunburybigwalnutchamber.com/events/details/ribbon-cutting-open-house-7123
END:VEVENT

END:VCALENDAR
