BEGIN:VCALENDAR
VERSION:2.0
PRODID:-//ChamberMaster//Event Calendar 2.0//EN
METHOD:PUBLISH
X-PUBLISHED-TTL:P3D
REFRESH-INTERVAL:P3D
CALSCALE:GREGORIAN
BEGIN:VEVENT
DTSTART:20240810T140000Z
DTEND:20240810T143000Z
X-MICROSOFT-CDO-ALLDAYEVENT:FALSE
SUMMARY:Ribbon Cutting-Sunbury Reservoirs
DESCRIPTION:The chamber is proud to do the Ribbon Cutting for the City of Sunbury and their newly renovated Reservoirs. Join us and bring a fishing pole!
X-ALT-DESC;FMTTYPE=text/html:The chamber is proud to do the Ribbon Cutting for the City of Sunbury and their newly renovated Reservoirs. Join us and bring a fishing pole!
LOCATION:Sunbury Reservoirs 250 Otis St. Parking on Sedgwick
UID:e.295.6824
SEQUENCE:3
DTSTAMP:20260419T122817Z
URL:https://business.sunburybigwalnutchamber.com/events/details/ribbon-cutting-sunbury-reservoirs-6824
END:VEVENT

END:VCALENDAR
