BEGIN:VCALENDAR
VERSION:2.0
PRODID:-//ChamberMaster//Event Calendar 2.0//EN
METHOD:PUBLISH
X-PUBLISHED-TTL:P3D
REFRESH-INTERVAL:P3D
CALSCALE:GREGORIAN
BEGIN:VEVENT
DTSTART:20251021T210000Z
DTEND:20251022T010000Z
X-MICROSOFT-CDO-ALLDAYEVENT:FALSE
SUMMARY:Roof Fundraiser at the Tavern
DESCRIPTION:The Chamber is having a fundraiser.  Help us get a new roof while enjoying wings (or some other goodies) at the Firehouse Tavern on the Sunbury Square. Mention this event and a portion of the proceeds will go to our Raise the Roof Fundraiser!
X-ALT-DESC;FMTTYPE=text/html:The Chamber is having a fundraiser.&nbsp\; Help us get a new roof while enjoying wings (or some other goodies) at the Firehouse Tavern on the Sunbury Square. Mention this event and a portion of the proceeds will go to our Raise the Roof Fundraiser!&nbsp\;&nbsp\;&nbsp\;&nbsp\;
LOCATION:Firehouse Tavern 38 S Vernon St Sunbury
UID:e.295.7118
SEQUENCE:3
DTSTAMP:20260420T123448Z
URL:https://business.sunburybigwalnutchamber.com/events/details/roof-fundraiser-at-the-tavern-7118
END:VEVENT

END:VCALENDAR
