BEGIN:VCALENDAR
VERSION:2.0
PRODID:-//ChamberMaster//Event Calendar 2.0//EN
METHOD:PUBLISH
X-PUBLISHED-TTL:P3D
REFRESH-INTERVAL:P3D
CALSCALE:GREGORIAN
BEGIN:VEVENT
DTSTART:20251022T210000Z
DTEND:20251023T010000Z
X-MICROSOFT-CDO-ALLDAYEVENT:FALSE
SUMMARY:Roof Fundraiser at the Tavern
DESCRIPTION:The Chamber is having a fundraiser.  Help us get a new roof while enjoying delicious food off the menu at the Firehouse Tavern on the Sunbury Square. Time it right and you can participate in Trivia Night (7pm). Mention this event and a portion of the proceeds will go to our Raise the Roof Fundraiser!
X-ALT-DESC;FMTTYPE=text/html:<span style="color: rgb(51\, 51\, 51)\; font-family: sans-serif\, Arial\, Verdana\, &quot\;Trebuchet MS&quot\;\; font-size: 13px\; background-color: rgb(255\, 255\, 255)\;">The Chamber is having a fundraiser.&nbsp\; Help us get a new roof while enjoying delicious food off the menu at the Firehouse Tavern on the Sunbury Square. Time it right and you can participate in Trivia Night (7pm). Mention this event and a portion of the proceeds will go to our Raise the Roof Fundraiser!</span>
LOCATION:Firehouse Tavern 38 S Vernon St SUnbury
UID:e.295.7119
SEQUENCE:3
DTSTAMP:20260420T135834Z
URL:https://business.sunburybigwalnutchamber.com/events/details/roof-fundraiser-at-the-tavern-7119
END:VEVENT

END:VCALENDAR
