BEGIN:VCALENDAR
VERSION:2.0
PRODID:-//ChamberMaster//Event Calendar 2.0//EN
METHOD:PUBLISH
X-PUBLISHED-TTL:P3D
REFRESH-INTERVAL:P3D
CALSCALE:GREGORIAN
BEGIN:VEVENT
DTSTART:20230720T150000Z
DTEND:20230720T170000Z
X-MICROSOFT-CDO-ALLDAYEVENT:FALSE
SUMMARY:Schmidt's Sausage Truck at the Library
DESCRIPTION:Enjoy a delicious lunch at the Community Library with Schmidt's Sausage Truck\, July 20th from 11:00am-1:00pm.
X-ALT-DESC;FMTTYPE=text/html:Enjoy a delicious lunch at the Community Library with Schmidt&#39\;s Sausage Truck\, July 20th from 11:00am-1:00pm.
LOCATION:Community Library 44 Burrer Drive\, Sunbury\, OH 43074
UID:e.295.6719
SEQUENCE:3
DTSTAMP:20260420T055730Z
URL:https://business.sunburybigwalnutchamber.com/events/details/schmidt-s-sausage-truck-at-the-library-6719
END:VEVENT

END:VCALENDAR
