BEGIN:VCALENDAR
VERSION:2.0
PRODID:-//ChamberMaster//Event Calendar 2.0//EN
METHOD:PUBLISH
X-PUBLISHED-TTL:P3D
REFRESH-INTERVAL:P3D
CALSCALE:GREGORIAN
BEGIN:VEVENT
DTSTART:20231202T190000Z
DTEND:20231202T210000Z
X-MICROSOFT-CDO-ALLDAYEVENT:FALSE
SUMMARY:SPA presents Annie Jr.
DESCRIPTION:Sunbury Performing Arts presents\n\nAnnie Jr
X-ALT-DESC;FMTTYPE=text/html:Sunbury Performing Arts presents<br />\nAnnie Jr
LOCATION:Big Walnut High School 713 Miller Dr. Sunbury
UID:e.295.6758
SEQUENCE:3
DTSTAMP:20260419T204816Z
URL:https://business.sunburybigwalnutchamber.com/events/details/spa-presents-annie-jr-6758
END:VEVENT

END:VCALENDAR
