BEGIN:VCALENDAR
VERSION:2.0
PRODID:-//ChamberMaster//Event Calendar 2.0//EN
METHOD:PUBLISH
X-PUBLISHED-TTL:P3D
REFRESH-INTERVAL:P3D
CALSCALE:GREGORIAN
BEGIN:VEVENT
DTSTART:20251031T163000Z
DTEND:20251031T190000Z
X-MICROSOFT-CDO-ALLDAYEVENT:FALSE
SUMMARY:"Spood-tacular Wedding"
DESCRIPTION:The Delaware County Historical Society in Partnership with the City of Delaware invite you to say "I boo." "Start your life together in Spook-tacular fashion by getting married at the Historic Delaware county Jail and Sheriff's Residence on Halloween. Friday\, October 31   12:30 p.m. to 3:00 p.m. Limited Availability Reservations Required Call 740-203-1501
X-ALT-DESC;FMTTYPE=text/html:The Delaware County Historical Society in Partnership with the City of Delaware invite you to say &ldquo\;I boo.&rdquo\; &ldquo\;Start your life together in Spook-tacular fashion by getting married at the Historic Delaware county Jail and Sheriff&rsquo\;s Residence on Halloween. Friday\, October 31 &ndash\; 12:30 p.m. to 3:00 p.m. Limited Availability Reservations Required Call 740-203-1501
LOCATION:Delaware County Historic Jail and Sheriff's Residence 20 W. Central Delaware\, Ohio. 43015
UID:e.295.7121
SEQUENCE:3
DTSTAMP:20260420T122801Z
URL:https://business.sunburybigwalnutchamber.com/events/details/spood-tacular-wedding-7121
END:VEVENT

END:VCALENDAR
