BEGIN:VCALENDAR
VERSION:2.0
PRODID:-//ChamberMaster//Event Calendar 2.0//EN
METHOD:PUBLISH
X-PUBLISHED-TTL:P3D
REFRESH-INTERVAL:P3D
CALSCALE:GREGORIAN
BEGIN:VEVENT
DTSTART:20230421T120000Z
DTEND:20230421T130000Z
X-MICROSOFT-CDO-ALLDAYEVENT:FALSE
SUMMARY:State of the Community-Big Walnut
DESCRIPTION:Join us for a special community update by our new District 61 Representative Beth Lear\, and our local Mayors. Sunbury Mayor St. John\, and Galena Mayor Love will update the community on Sunbury and Galena. Enjoy a continental breakfast and learn about where we are and what the future looks like.
X-ALT-DESC;FMTTYPE=text/html:Join us for a special community update by our new District 61 Representative Beth Lear\, and our local Mayors. Sunbury Mayor St. John\, and Galena Mayor Love will update the community on Sunbury and Galena. Enjoy a continental breakfast and learn about where we are and what the future looks like.
LOCATION:NorthStar Golf Club 1150 Wilson Rd Sunbury
UID:e.295.6709
SEQUENCE:3
DTSTAMP:20260420T123200Z
URL:https://business.sunburybigwalnutchamber.com/events/details/state-of-the-community-big-walnut-6709
END:VEVENT

END:VCALENDAR
