BEGIN:VCALENDAR
VERSION:2.0
PRODID:-//ChamberMaster//Event Calendar 2.0//EN
METHOD:PUBLISH
X-PUBLISHED-TTL:P3D
REFRESH-INTERVAL:P3D
CALSCALE:GREGORIAN
BEGIN:VEVENT
DTSTART:20250907T154500Z
DTEND:20250907T180000Z
X-MICROSOFT-CDO-ALLDAYEVENT:FALSE
SUMMARY:Summer's End Block Party
DESCRIPTION:Celebrating the end of Summer and the beginning of a new school year
X-ALT-DESC;FMTTYPE=text/html:Celebrating the end of Summer and the beginning of a new school year
LOCATION:Sunbury Christian Church 870 Admiral Drive Sunbury\, OH 43074
UID:e.295.7096
SEQUENCE:3
DTSTAMP:20260420T122420Z
URL:https://business.sunburybigwalnutchamber.com/events/details/summer-s-end-block-party-7096
END:VEVENT

END:VCALENDAR
