BEGIN:VCALENDAR
VERSION:2.0
PRODID:-//ChamberMaster//Event Calendar 2.0//EN
METHOD:PUBLISH
X-PUBLISHED-TTL:P3D
REFRESH-INTERVAL:P3D
CALSCALE:GREGORIAN
BEGIN:VEVENT
DTSTART:20250726T130000Z
DTEND:20250726T170000Z
X-MICROSOFT-CDO-ALLDAYEVENT:FALSE
SUMMARY:Sunbury Farmer's Market
DESCRIPTION:SUNBURY FARMER'S MARKET
X-ALT-DESC;FMTTYPE=text/html:SUNBURY FARMER&#39\;S MARKET
LOCATION:SUNBURY SQUARE
UID:e.295.7042
SEQUENCE:3
DTSTAMP:20260420T071614Z
URL:https://business.sunburybigwalnutchamber.com/events/details/sunbury-farmer-s-market-07-26-2025-7042
END:VEVENT

END:VCALENDAR
