BEGIN:VCALENDAR
VERSION:2.0
PRODID:-//ChamberMaster//Event Calendar 2.0//EN
METHOD:PUBLISH
X-PUBLISHED-TTL:P3D
REFRESH-INTERVAL:P3D
CALSCALE:GREGORIAN
BEGIN:VEVENT
DTSTART:20240130T230000Z
DTEND:20240131T000000Z
X-MICROSOFT-CDO-ALLDAYEVENT:FALSE
SUMMARY:Sunbury State of the City
DESCRIPTION:Sunbury State of the City Address with Mayor Joe St. John
X-ALT-DESC;FMTTYPE=text/html:Sunbury State of the City Address with Mayor Joe St. John
LOCATION:Big Walnut High School
UID:e.295.6765
SEQUENCE:3
DTSTAMP:20260419T205502Z
URL:https://business.sunburybigwalnutchamber.com/events/details/sunbury-state-of-the-city-6765
END:VEVENT

END:VCALENDAR
