BEGIN:VCALENDAR
VERSION:2.0
PRODID:-//ChamberMaster//Event Calendar 2.0//EN
METHOD:PUBLISH
X-PUBLISHED-TTL:P3D
REFRESH-INTERVAL:P3D
CALSCALE:GREGORIAN
BEGIN:VEVENT
DTSTART:20250808T170000Z
DTEND:20250808T190000Z
X-MICROSOFT-CDO-ALLDAYEVENT:FALSE
SUMMARY:Tanger Outlets Back to School Bash
DESCRIPTION:Join us Friday\, August 8 from 1 3 PM for the Back-to-School Bash at Tanger Outlets Columbus! Get ready for the school year with amazing deals from top brands like Nike\, American Eagle\, Old Navy\, and Crocs. Enjoy FREE family fun including a caricature artist\, crafts\, games\, a selfie station\, live music\, and more! Located near Nike and Coach. Don't miss out bring your shopping crew and celebrate the season in style! Presented by Destination Delaware.
X-ALT-DESC;FMTTYPE=text/html:Join us Friday\, August 8 from 1&ndash\;3 PM for the Back-to-School Bash at Tanger Outlets Columbus! Get ready for the school year with amazing deals from top brands like Nike\, American Eagle\, Old Navy\, and Crocs. Enjoy FREE family fun including a caricature artist\, crafts\, games\, a selfie station\, live music\, and more! Located near Nike and Coach. Don&rsquo\;t miss out&mdash\;bring your shopping crew and celebrate the season in style! Presented by Destination Delaware.
LOCATION:Tanger Outlets 400 South Wilson Road\, Sunbury\, OH 43074
UID:e.295.7085
SEQUENCE:3
DTSTAMP:20260420T090045Z
URL:https://business.sunburybigwalnutchamber.com/events/details/tanger-outlets-back-to-school-bash-7085
END:VEVENT

END:VCALENDAR
