BEGIN:VCALENDAR
VERSION:2.0
PRODID:-//ChamberMaster//Event Calendar 2.0//EN
METHOD:PUBLISH
X-PUBLISHED-TTL:P3D
REFRESH-INTERVAL:P3D
CALSCALE:GREGORIAN
BEGIN:VEVENT
DTSTART:20250726T140000Z
DTEND:20250726T160000Z
X-MICROSOFT-CDO-ALLDAYEVENT:FALSE
SUMMARY:Victorian Tea - Brewing Change: 1800"s Black Laws in Ohio
DESCRIPTION:Step back in time and experience the tradition of "taking tea" during the Victorian era. Participants will learn proper tea etiquette and a brief history of tea. A buffet of savories and sweets will accompany the tea. Our guest presenter\, Watson Walker\, Jr.\, will share some surprising laws that made life difficult for African Americans living in or traveling through Ohio
X-ALT-DESC;FMTTYPE=text/html:Step back in time and experience the tradition of &quot\;taking tea&quot\; during the Victorian era. Participants will learn proper tea etiquette and a brief history of tea. A buffet of savories and sweets will accompany the tea. Our guest presenter\, Watson Walker\, Jr.\, will share some surprising laws that made life difficult for African Americans living in or traveling through Ohio
LOCATION:The Historic Nash House Museum 157 E. William St.\, Delaware\, Ohio. 43015
UID:e.295.7087
SEQUENCE:3
DTSTAMP:20260420T071548Z
URL:https://business.sunburybigwalnutchamber.com/events/details/victorian-tea-brewing-change-1800-s-black-laws-in-ohio-7087
END:VEVENT

END:VCALENDAR
