BEGIN:VCALENDAR
VERSION:2.0
PRODID:-//ChamberMaster//Event Calendar 2.0//EN
METHOD:PUBLISH
X-PUBLISHED-TTL:P3D
REFRESH-INTERVAL:P3D
CALSCALE:GREGORIAN
BEGIN:VEVENT
DTSTART:20220818T120000Z
DTEND:20220818T130000Z
X-MICROSOFT-CDO-ALLDAYEVENT:FALSE
SUMMARY:Women's Interest Meeting & Continental Breakfast
DESCRIPTION:Women's Interest Meeting & Continental Breakfast\n\n\n\nThe Sunbury Big Walnut Area Chamber of Commerce invites you to join us for a continental breakfast and interest meeting on August 18th\, 2022 at the chamber from 8-9 am. \n\n\n\n*Are you a woman business owner/entrepreneur? \n\n*Are you a woman in management? \n\n*Are you a female employee? \n\n*Are you a stay at home mom who wants to be involved? \n\n*Do you have something to teach? \n\n*Something you want to learn? \n\n*Simply looking to network with other women? \n\n\n\nThen this is the meeting for you! \n\nPlease join us as we explore what it is the women in the Big Walnut community want and need.
X-ALT-DESC;FMTTYPE=text/html:Women&#39\;s Interest Meeting &amp\; Continental Breakfast<br />\n<br />\nThe Sunbury Big Walnut Area Chamber of Commerce invites you to join us for a continental breakfast and interest meeting on August 18th\, 2022 at the chamber from 8-9 am.&nbsp\;<br />\n<br />\n*Are you a woman business owner/entrepreneur?&nbsp\;<br />\n*Are you a woman in management?&nbsp\;<br />\n*Are you a female employee?&nbsp\;<br />\n*Are you a stay at home mom who wants to be involved?&nbsp\;<br />\n*Do you have something to teach?&nbsp\;<br />\n*Something you want to learn?&nbsp\;<br />\n*Simply looking to network with other women?&nbsp\;<br />\n<br />\nThen this is the meeting for you!&nbsp\;<br />\nPlease join us as we explore what it is the women in the Big Walnut community want and need.&nbsp\;<br />\n<br />\n<br />\n<br />\n&nbsp\;
LOCATION:Sunbury Big Walnut Area Chamber of Commerce 39 E. Granville St Sunbury\, Ohio 43074
UID:e.295.6678
SEQUENCE:3
DTSTAMP:20260421T021732Z
URL:https://business.sunburybigwalnutchamber.com/events/details/women-s-interest-meeting-continental-breakfast-6678
END:VEVENT

END:VCALENDAR
