BEGIN:VCALENDAR
VERSION:2.0
PRODID:-//ChamberMaster//Event Calendar 2.0//EN
METHOD:PUBLISH
X-PUBLISHED-TTL:P3D
REFRESH-INTERVAL:P3D
CALSCALE:GREGORIAN
BEGIN:VEVENT
DTSTART:20221004T223000Z
DTEND:20221005T000000Z
X-MICROSOFT-CDO-ALLDAYEVENT:FALSE
SUMMARY:Women's Networking Night
DESCRIPTION:WOMEN'S NETWORK NIGHT\n\n \n\nAfter our first interest meeting went so well\, we want to keep the momentum going. We are offering a peaceful\, relaxing night of networking with other women. Whether you joined us for the interest meeting or not\, please join us for this special time to connect.\n\n\n\nThis will be a unique experience designed to bring women together in a calm and peaceful environment\, where we can rest\, engage\, support\, and elevate each other. Meet new people\, learn new information\, and be a part of something bigger than each of us as individuals.\n\n    \n\nWhen & Where: Tuesday\, October 4th\n\n6:30-8 pm\n\nA.J.S. Yoga & Wellness\n\n49 Cherry St. (See location description and parking information below)\n\nSunbury\, Ohio\n\nIn addition to parking and walking from the square\, there is room behind the chamber for parking if you don't mind the tiny walk.\n\nThe below comes straight from A.J.S. Yoga & Wellness website and is used with permission.\n\nThe studio is located 1 block west of the Square in Sunbury\, behind the house at 49 West Cherry Street.  The studio sits on Evening Street and faces Evening Street Park.\n\n \n\nParking is available in the rock driveway between the studio and the house\, on the blacktop in front of the studio or on the street alongside Evening Street Park.  If you'd like a short\, mindful walk before and after practice\, or maybe want to visit one of the other businesses on the Sunbury Square\, there's a free parking lot at the corner of Cherry and Columbus streets\, just 1 block east of the studio.\n\n \n\nSponsors will be able to share/promote their business for a few minutes at the beginning of the evening. \n\nRefreshments will be provided.\n\nDisclaimer: While standing or using one of the chairs available are options\, we encourage women to grab a mat and sit on the floor if you feel physically able.
X-ALT-DESC;FMTTYPE=text/html:&nbsp\;&nbsp\;<strong><span style="background:white\;"><span style="color:#333333\;"><span style="font-family:comic sans ms\;"><span style="font-size:16.0pt\;">WOMEN&rsquo\;S NETWORK NIGHT</span></span></span></span></strong><br />\n&nbsp\;<br />\n<span style="background:white\;"><span style="color:#333333\;"><span style="font-family:comic sans ms\;"><span style="font-size:14.0pt\;">After our first interest meeting went so well\, we want to keep the momentum going. We are offering a peaceful\, relaxing night of networking with other women. Whether you joined us for the interest meeting or not\, please join us for this special time to connect.</span></span></span></span><br />\n<br />\n<span style="color:#333333\;"><span style="font-family:comic sans ms\;"><span style="font-size:14.0pt\;"><span style="background:white\;">This will be a unique experience designed to bring women together in a calm and peaceful environment\, where we can rest\, engage\, support\, and elevate each other. Meet new people\, learn new information\, and be a part of something bigger than each of us as individuals.</span></span></span></span><br />\n&nbsp\;&nbsp\;&nbsp\;&nbsp\;<br />\n<strong><span style="background:white\;"><span style="color:#333333\;"><span style="font-family:comic sans ms\;"><span style="font-size:14.0pt\;">When &amp\; Where</span></span></span></span></strong><span style="background:white\;"><span style="color:#333333\;"><span style="font-family:comic sans ms\;"><span style="font-size:14.0pt\;">: Tuesday\, October 4th</span></span></span></span><br />\n<span style="color:#333333\;"><span style="font-family:comic sans ms\;"><span style="font-size:14.0pt\;"><span style="background:white\;">6:30-8 pm</span></span></span></span><br />\n<span style="background:white\;"><span style="color:#333333\;"><span style="font-family:comic sans ms\;"><span style="font-size:14.0pt\;">A.J.S. Yoga &amp\; Wellness</span></span></span></span><br />\n<span style="color:#333333\;"><span style="font-family:comic sans ms\;"><span style="font-size:14.0pt\;"><span style="background:white\;">49 Cherry St. (See location description and parking information below)</span><br />\n<span style="background:white\;">Sunbury\, Ohio</span></span></span></span><br />\n<span style="background:white\;"><span style="color:#333333\;"><span style="font-family:comic sans ms\;"><span style="font-size:14.0pt\;">In addition to parking and walking from the square\, there is room behind the chamber for parking if you don&rsquo\;t mind the tiny walk.</span></span></span></span><br />\n<span style="background:white\;"><span style="color:#333333\;"><span style="font-family:comic sans ms\;"><span style="font-size:14.0pt\;">The below comes straight from A.J.S. Yoga &amp\; Wellness website and is used with permission.</span></span></span></span><br />\n<span style="border:none windowtext 1.0pt\;padding:0in\;"><span style="color:black\;"><span style="font-family:arial\,sans-serif\;"><span style="font-size:14.0pt\;">The studio is located 1 block west of the Square in Sunbury\, behind the house at 49 West Cherry Street.&nbsp\; The studio sits on Evening Street and faces Evening Street Park.</span></span></span></span><br />\n<span style="border:none windowtext 1.0pt\;padding:0in\;"><span style="color:black\;"><span style="font-family:arial\,sans-serif\;"><span style="font-size:14.0pt\;">&#8203\;</span></span></span></span><br />\n<span style="border:none windowtext 1.0pt\;padding:0in\;"><span style="color:black\;"><span style="font-family:arial\,sans-serif\;"><span style="font-size:14.0pt\;">Parking is available in the rock driveway between the studio and the house\, on the blacktop in front of the studio or on the street alongside Evening Street Park.&nbsp\; If you&#39\;d like a short\, mindful walk before and after practice\, or maybe want to visit one of the other businesses on the Sunbury Square\, there&#39\;s a free parking lot at the corner of Cherry and Columbus streets\, just 1 block east of the studio.</span></span></span></span><br />\n&nbsp\;<br />\n<u><span style="color:#70AD47\;"><span style="font-family:comic sans ms\;"><span style="font-size:14.0pt\;">Sponsors will be able to share/promote their business for a few minutes at the beginning of the evening.&nbsp\;</span></span></span></u><br />\n<span style="background:white\;"><span style="color:#333333\;"><span style="font-family:comic sans ms\;"><span style="font-size:14.0pt\;">Refreshments will be provided.</span></span></span></span><br />\n<em><span style="background:white\;"><span style="color:#333333\;"><span style="font-family:comic sans ms\;"><span style="font-size:14.0pt\;">Disclaimer: While standing or using one of the chairs available are options\, we encourage women to grab a mat and sit on the floor if you feel physically able.</span></span></span></span></em>
LOCATION:A.J.S. Yoga & Wellness 49 Cherry St. (See location description and parking information) Sunbury\, Ohio
UID:e.295.6681
SEQUENCE:3
DTSTAMP:20260420T212028Z
URL:https://business.sunburybigwalnutchamber.com/events/details/women-s-networking-night-6681
END:VEVENT

END:VCALENDAR
